BEGIN:VCALENDAR
VERSION:2.0
PRODID:-//Plone.org//NONSGML plone.app.event//EN
X-WR-TIMEZONE:Europe/Berlin
BEGIN:VEVENT
SUMMARY:Tecnica di idraulica antica
DTSTART;TZID=Europe/Berlin;VALUE=DATE-TIME:20161118T090000
DTEND;TZID=Europe/Berlin;VALUE=DATE-TIME:20161118T180000
DTSTAMP;VALUE=DATE-TIME:20260423T061910Z
UID:ed668d5730ac4e3fb6fee0b05319b0a1@www.isprambiente.gov.it
CREATED;VALUE=DATE-TIME:20161110T095813Z
LAST-MODIFIED;VALUE=DATE-TIME:20230120T134033Z
LOCATION:Roma
URL:https://www.isprambiente.gov.it/it/archivio/notizie-e-novita-normative
 /notizie-ispra/2016/11/tecnica-di-idraulica-antica
END:VEVENT
BEGIN:VTIMEZONE
TZID:Europe/Berlin
X-LIC-LOCATION:Europe/Berlin
BEGIN:STANDARD
DTSTART;VALUE=DATE-TIME:20161030T020000
TZNAME:CET
TZOFFSETFROM:+0200
TZOFFSETTO:+0100
END:STANDARD
END:VTIMEZONE
END:VCALENDAR
