BEGIN:VCALENDAR
VERSION:2.0
PRODID:-//Plone.org//NONSGML plone.app.event//EN
X-WR-TIMEZONE:Europe/Berlin
BEGIN:VEVENT
SUMMARY:Arpal e ISPRA insieme verso il "Patto per il mare"
DTSTART;TZID=Europe/Berlin;VALUE=DATE-TIME:20161130T094500
DTEND;TZID=Europe/Berlin;VALUE=DATE-TIME:20161130T110000
DTSTAMP;VALUE=DATE-TIME:20260423T061753Z
UID:05ce7c1210464066850c2c826835a668@www.isprambiente.gov.it
CREATED;VALUE=DATE-TIME:20161129T115336Z
LAST-MODIFIED;VALUE=DATE-TIME:20230120T134033Z
LOCATION:Genova\, Villa Bombrini
URL:https://www.isprambiente.gov.it/it/archivio/notizie-e-novita-normative
 /notizie-ispra/2016/11/verso-il-patto-del-mare
END:VEVENT
BEGIN:VTIMEZONE
TZID:Europe/Berlin
X-LIC-LOCATION:Europe/Berlin
BEGIN:STANDARD
DTSTART;VALUE=DATE-TIME:20161030T020000
TZNAME:CET
TZOFFSETFROM:+0200
TZOFFSETTO:+0100
END:STANDARD
END:VTIMEZONE
END:VCALENDAR
