BEGIN:VCALENDAR
VERSION:2.0
PRODID:-//Plone.org//NONSGML plone.app.event//EN
X-WR-TIMEZONE:Europe/Berlin
BEGIN:VEVENT
SUMMARY:Conferenza: "E' ancora possibile salvare l'Adriatico?"
DTSTART;TZID=Europe/Berlin;VALUE=DATE-TIME:20170105T150000
DTEND;TZID=Europe/Berlin;VALUE=DATE-TIME:20170105T180000
DTSTAMP;VALUE=DATE-TIME:20260423T075104Z
UID:bd4e0572585042379997b2dc6e55a5a5@www.isprambiente.gov.it
CREATED;VALUE=DATE-TIME:20171227T155034Z
LAST-MODIFIED;VALUE=DATE-TIME:20230120T133617Z
LOCATION:Acquario di Cattolica
URL:https://www.isprambiente.gov.it/it/archivio/notizie-e-novita-normative
 /notizie-ispra/2017/01/conferenza-e-ancora-possibile-salvare-ladriatico
END:VEVENT
BEGIN:VTIMEZONE
TZID:Europe/Berlin
X-LIC-LOCATION:Europe/Berlin
BEGIN:STANDARD
DTSTART;VALUE=DATE-TIME:20161030T020000
TZNAME:CET
TZOFFSETFROM:+0200
TZOFFSETTO:+0100
END:STANDARD
END:VTIMEZONE
END:VCALENDAR
