BEGIN:VCALENDAR
VERSION:2.0
PRODID:-//Plone.org//NONSGML plone.app.event//EN
X-WR-TIMEZONE:Europe/Berlin
BEGIN:VEVENT
SUMMARY:Presentazione dell'accordo tra Enci e ISPRA
DTSTART;TZID=Europe/Berlin;VALUE=DATE-TIME:20170126T100000
DTEND;TZID=Europe/Berlin;VALUE=DATE-TIME:20170126T123000
DTSTAMP;VALUE=DATE-TIME:20260423T121950Z
UID:69d6ab25fe5c44e2937fd324f897b7f2@www.isprambiente.gov.it
CREATED;VALUE=DATE-TIME:20170119T130118Z
LAST-MODIFIED;VALUE=DATE-TIME:20230120T133617Z
LOCATION:Milano
URL:https://www.isprambiente.gov.it/it/archivio/notizie-e-novita-normative
 /notizie-ispra/2017/01/presentazione-dellaccordo-tra-enci-e-ispra
END:VEVENT
BEGIN:VTIMEZONE
TZID:Europe/Berlin
X-LIC-LOCATION:Europe/Berlin
BEGIN:STANDARD
DTSTART;VALUE=DATE-TIME:20161030T020000
TZNAME:CET
TZOFFSETFROM:+0200
TZOFFSETTO:+0100
END:STANDARD
END:VTIMEZONE
END:VCALENDAR
