BEGIN:VCALENDAR
VERSION:2.0
PRODID:-//Plone.org//NONSGML plone.app.event//EN
X-WR-TIMEZONE:Europe/Berlin
BEGIN:VEVENT
SUMMARY:Alto Adriatico. Scienza - Ambiente - Sicurezza subacquea
DTSTART;TZID=Europe/Berlin;VALUE=DATE-TIME:20170211T110000
DTEND;TZID=Europe/Berlin;VALUE=DATE-TIME:20170211T130000
DTSTAMP;VALUE=DATE-TIME:20260422T231329Z
UID:5af3ff1e4d6b4134bc244abf8a234d75@www.isprambiente.gov.it
CREATED;VALUE=DATE-TIME:20170210T124745Z
LAST-MODIFIED;VALUE=DATE-TIME:20230120T133617Z
LOCATION:Fiera di Padova
URL:https://www.isprambiente.gov.it/it/archivio/notizie-e-novita-normative
 /notizie-ispra/2017/02/alto-adriatico.-scienza-ambiente-sicurezza-subacque
 a
END:VEVENT
BEGIN:VTIMEZONE
TZID:Europe/Berlin
X-LIC-LOCATION:Europe/Berlin
BEGIN:STANDARD
DTSTART;VALUE=DATE-TIME:20161030T020000
TZNAME:CET
TZOFFSETFROM:+0200
TZOFFSETTO:+0100
END:STANDARD
END:VTIMEZONE
END:VCALENDAR
