BEGIN:VCALENDAR
VERSION:2.0
PRODID:-//Plone.org//NONSGML plone.app.event//EN
X-WR-TIMEZONE:Europe/Berlin
BEGIN:VEVENT
SUMMARY:Mare: salvaguardia\, tutela\, opportunità
DTSTART;TZID=Europe/Berlin;VALUE=DATE-TIME:20170318T100000
DTEND;TZID=Europe/Berlin;VALUE=DATE-TIME:20170318T130000
DTSTAMP;VALUE=DATE-TIME:20260420T061737Z
UID:83088f1f27444ceb987c2643262f9368@www.isprambiente.gov.it
CREATED;VALUE=DATE-TIME:20170317T100927Z
LAST-MODIFIED;VALUE=DATE-TIME:20230120T133617Z
LOCATION:Bagheria
URL:https://www.isprambiente.gov.it/it/archivio/notizie-e-novita-normative
 /notizie-ispra/2017/03/mare-salvaguardia-tutela-opportunita
END:VEVENT
BEGIN:VTIMEZONE
TZID:Europe/Berlin
X-LIC-LOCATION:Europe/Berlin
BEGIN:STANDARD
DTSTART;VALUE=DATE-TIME:20161030T020000
TZNAME:CET
TZOFFSETFROM:+0200
TZOFFSETTO:+0100
END:STANDARD
END:VTIMEZONE
END:VCALENDAR
