BEGIN:VCALENDAR
VERSION:2.0
PRODID:-//Plone.org//NONSGML plone.app.event//EN
X-WR-TIMEZONE:Europe/Berlin
BEGIN:VEVENT
SUMMARY:Sustainable Maritime and Coastal Tourism\, Sea Pressures and Respo
 nsible Research and Innovation
DTSTART;TZID=Europe/Berlin;VALUE=DATE-TIME:20170404T090000
DTEND;TZID=Europe/Berlin;VALUE=DATE-TIME:20170404T180000
DTSTAMP;VALUE=DATE-TIME:20260423T091841Z
UID:6562146f47dd439d87ded267085d287d@www.isprambiente.gov.it
CREATED;VALUE=DATE-TIME:20170321T154716Z
DESCRIPTION:Workshop
LAST-MODIFIED;VALUE=DATE-TIME:20230120T133617Z
LOCATION:San Giorgio Maggiore (VE) - Fondazione Eni Enrico Mattei (FEEM)
URL:https://www.isprambiente.gov.it/it/archivio/notizie-e-novita-normative
 /notizie-ispra/2017/04/sustainable-maritime-and-coastal-tourism-sea-pressu
 res-and-responsible-research-and-innovation
END:VEVENT
BEGIN:VTIMEZONE
TZID:Europe/Berlin
X-LIC-LOCATION:Europe/Berlin
BEGIN:DAYLIGHT
DTSTART;VALUE=DATE-TIME:20170326T030000
TZNAME:CEST
TZOFFSETFROM:+0100
TZOFFSETTO:+0200
END:DAYLIGHT
END:VTIMEZONE
END:VCALENDAR
