BEGIN:VCALENDAR
VERSION:2.0
PRODID:-//Plone.org//NONSGML plone.app.event//EN
X-WR-TIMEZONE:Europe/Berlin
BEGIN:VEVENT
SUMMARY:Adattamento ai cambiamenti climatici: le esperienze e le opportuni
 tà dei progetti LIFE in Italia
DTSTART;TZID=Europe/Berlin;VALUE=DATE-TIME:20170524T100000
DTEND;TZID=Europe/Berlin;VALUE=DATE-TIME:20170524T170000
DTSTAMP;VALUE=DATE-TIME:20260423T101800Z
UID:69fc441cf3554c878e08717c72a97af9@www.isprambiente.gov.it
CREATED;VALUE=DATE-TIME:20170509T141937Z
DESCRIPTION:Convegno
LAST-MODIFIED;VALUE=DATE-TIME:20230120T133958Z
LOCATION:Roma\, Aranciera di San Sisto\, Via di Valle delle Camene\,11
URL:https://www.isprambiente.gov.it/it/archivio/notizie-e-novita-normative
 /notizie-ispra/2017/05/adattamento-ai-cambiamenti-climatici-le-esperienze-
 e-le-opportunita-dei-progetti-life-in-italia
END:VEVENT
BEGIN:VTIMEZONE
TZID:Europe/Berlin
X-LIC-LOCATION:Europe/Berlin
BEGIN:DAYLIGHT
DTSTART;VALUE=DATE-TIME:20170326T030000
TZNAME:CEST
TZOFFSETFROM:+0100
TZOFFSETTO:+0200
END:DAYLIGHT
END:VTIMEZONE
END:VCALENDAR
