BEGIN:VCALENDAR
VERSION:2.0
PRODID:-//Plone.org//NONSGML plone.app.event//EN
X-WR-TIMEZONE:Europe/Berlin
BEGIN:VEVENT
SUMMARY:Posidonia oceanica spiaggiata. Risorsa o rifiuto?
DTSTART;TZID=Europe/Berlin;VALUE=DATE-TIME:20170508T100000
DTEND;TZID=Europe/Berlin;VALUE=DATE-TIME:20170508T144500
DTSTAMP;VALUE=DATE-TIME:20260423T105137Z
UID:8426fcdce7b0419ea61a7ea78dfbc1ce@www.isprambiente.gov.it
CREATED;VALUE=DATE-TIME:20170502T153950Z
LAST-MODIFIED;VALUE=DATE-TIME:20230120T133958Z
LOCATION:Castagneto Carducci\, Teatro Roma
URL:https://www.isprambiente.gov.it/it/archivio/notizie-e-novita-normative
 /notizie-ispra/2017/05/posidonia-oceanica-spiaggiata.-risorsa-o-rifiuto
END:VEVENT
BEGIN:VTIMEZONE
TZID:Europe/Berlin
X-LIC-LOCATION:Europe/Berlin
BEGIN:DAYLIGHT
DTSTART;VALUE=DATE-TIME:20170326T030000
TZNAME:CEST
TZOFFSETFROM:+0100
TZOFFSETTO:+0200
END:DAYLIGHT
END:VTIMEZONE
END:VCALENDAR
