BEGIN:VCALENDAR
VERSION:2.0
PRODID:-//Plone.org//NONSGML plone.app.event//EN
X-WR-TIMEZONE:Europe/Berlin
BEGIN:VEVENT
SUMMARY:Sedimenti marini: caratterizzazione\, dragaggio\, trattamento e ri
 utilizzo
DTSTART;TZID=Europe/Berlin;VALUE=DATE-TIME:20170518T090000
DTEND;TZID=Europe/Berlin;VALUE=DATE-TIME:20170518T133000
DTSTAMP;VALUE=DATE-TIME:20260423T075105Z
UID:40789686aea7458d89a73f19f97e6d94@www.isprambiente.gov.it
CREATED;VALUE=DATE-TIME:20170508T150656Z
LAST-MODIFIED;VALUE=DATE-TIME:20230120T133958Z
LOCATION:Roma\, Assoporti
URL:https://www.isprambiente.gov.it/it/archivio/notizie-e-novita-normative
 /notizie-ispra/2017/05/sedimenti-marini-caratterizzazione-dragaggio-tratta
 mento-e-riutilizzo
END:VEVENT
BEGIN:VTIMEZONE
TZID:Europe/Berlin
X-LIC-LOCATION:Europe/Berlin
BEGIN:DAYLIGHT
DTSTART;VALUE=DATE-TIME:20170326T030000
TZNAME:CEST
TZOFFSETFROM:+0100
TZOFFSETTO:+0200
END:DAYLIGHT
END:VTIMEZONE
END:VCALENDAR
