BEGIN:VCALENDAR
VERSION:2.0
PRODID:-//Plone.org//NONSGML plone.app.event//EN
X-WR-TIMEZONE:Europe/Berlin
BEGIN:VEVENT
SUMMARY:A 10 anni dalla Conferenza Nazionale sui Cambiamenti Climatici
DTSTART;TZID=Europe/Berlin;VALUE=DATE-TIME:20170912T113000
DTEND;TZID=Europe/Berlin;VALUE=DATE-TIME:20170912T130000
DTSTAMP;VALUE=DATE-TIME:20260422T134117Z
UID:72d3b7440038431ca598934226929748@www.isprambiente.gov.it
CREATED;VALUE=DATE-TIME:20170911T115330Z
LAST-MODIFIED;VALUE=DATE-TIME:20230120T134011Z
LOCATION:Roma\, Palazzo Madama
URL:https://www.isprambiente.gov.it/it/archivio/notizie-e-novita-normative
 /notizie-ispra/2017/09/a-10-anni-dalla-conferenza-nazionale-sui-cambiament
 i-climatici
END:VEVENT
BEGIN:VTIMEZONE
TZID:Europe/Berlin
X-LIC-LOCATION:Europe/Berlin
BEGIN:DAYLIGHT
DTSTART;VALUE=DATE-TIME:20170326T030000
TZNAME:CEST
TZOFFSETFROM:+0100
TZOFFSETTO:+0200
END:DAYLIGHT
END:VTIMEZONE
END:VCALENDAR
