BEGIN:VCALENDAR
VERSION:2.0
PRODID:-//Plone.org//NONSGML plone.app.event//EN
X-WR-TIMEZONE:Europe/Berlin
BEGIN:VEVENT
SUMMARY:Dal Mediterraneo al Madagascar\, la pesca del futuro
DTSTART;TZID=Europe/Berlin;VALUE=DATE-TIME:20170922T210000
DTEND;TZID=Europe/Berlin;VALUE=DATE-TIME:20170922T221500
DTSTAMP;VALUE=DATE-TIME:20260423T075126Z
UID:4f0ecf877bf4428bb196896a19a3fb28@www.isprambiente.gov.it
CREATED;VALUE=DATE-TIME:20170915T171432Z
LAST-MODIFIED;VALUE=DATE-TIME:20230120T134011Z
LOCATION:Trieste
URL:https://www.isprambiente.gov.it/it/archivio/notizie-e-novita-normative
 /notizie-ispra/2017/09/dal-mediterraneo-al-madagascar-la-pesca-del-futuro
END:VEVENT
BEGIN:VTIMEZONE
TZID:Europe/Berlin
X-LIC-LOCATION:Europe/Berlin
BEGIN:DAYLIGHT
DTSTART;VALUE=DATE-TIME:20170326T030000
TZNAME:CEST
TZOFFSETFROM:+0100
TZOFFSETTO:+0200
END:DAYLIGHT
END:VTIMEZONE
END:VCALENDAR
