BEGIN:VCALENDAR
VERSION:2.0
PRODID:-//Plone.org//NONSGML plone.app.event//EN
X-WR-TIMEZONE:Europe/Berlin
BEGIN:VEVENT
SUMMARY:La Terza via del vivaismo per la riqualificazione ambientale 
DTSTART;TZID=Europe/Berlin;VALUE=DATE-TIME:20170921T103000
DTEND;TZID=Europe/Berlin;VALUE=DATE-TIME:20170921T130000
DTSTAMP;VALUE=DATE-TIME:20260420T124707Z
UID:9c53d73f29d146349cfc10ede0bb888f@www.isprambiente.gov.it
CREATED;VALUE=DATE-TIME:20170915T120534Z
LAST-MODIFIED;VALUE=DATE-TIME:20230120T134011Z
LOCATION:Fiera di Padova - Salone Internazionale Flormart
URL:https://www.isprambiente.gov.it/it/archivio/notizie-e-novita-normative
 /notizie-ispra/2017/09/la-terza-via-del-vivaismo-per-la-riqualificazione-a
 mbientale-1
END:VEVENT
BEGIN:VTIMEZONE
TZID:Europe/Berlin
X-LIC-LOCATION:Europe/Berlin
BEGIN:DAYLIGHT
DTSTART;VALUE=DATE-TIME:20170326T030000
TZNAME:CEST
TZOFFSETFROM:+0100
TZOFFSETTO:+0200
END:DAYLIGHT
END:VTIMEZONE
END:VCALENDAR
