BEGIN:VCALENDAR
VERSION:2.0
PRODID:-//Plone.org//NONSGML plone.app.event//EN
X-WR-TIMEZONE:Europe/Berlin
BEGIN:VEVENT
SUMMARY:Controlli AIA. Conoscenza condivisa in un sistema unitario a rete
DTSTART;TZID=Europe/Berlin;VALUE=DATE-TIME:20171019T143000
DTEND;TZID=Europe/Berlin;VALUE=DATE-TIME:20171019T170000
DTSTAMP;VALUE=DATE-TIME:20260425T214903Z
UID:8d159ad9712c4e85a58afa444573ae7f@www.isprambiente.gov.it
CREATED;VALUE=DATE-TIME:20171011T105532Z
LAST-MODIFIED;VALUE=DATE-TIME:20230120T134011Z
LOCATION:Roma\, Palazzo Montecitorio
URL:https://www.isprambiente.gov.it/it/archivio/notizie-e-novita-normative
 /notizie-ispra/2017/10/controlli-aia.-conoscenza-condivisa-in-un-sistema-u
 nitario-a-rete
END:VEVENT
BEGIN:VTIMEZONE
TZID:Europe/Berlin
X-LIC-LOCATION:Europe/Berlin
BEGIN:DAYLIGHT
DTSTART;VALUE=DATE-TIME:20170326T030000
TZNAME:CEST
TZOFFSETFROM:+0100
TZOFFSETTO:+0200
END:DAYLIGHT
END:VTIMEZONE
END:VCALENDAR
