BEGIN:VCALENDAR
VERSION:2.0
PRODID:-//Plone.org//NONSGML plone.app.event//EN
X-WR-TIMEZONE:Europe/Berlin
BEGIN:VEVENT
SUMMARY:Convegno "Direzione Prevenzione"
DTSTART;TZID=Europe/Berlin;VALUE=DATE-TIME:20171019T105500
DTEND;TZID=Europe/Berlin;VALUE=DATE-TIME:20171020T105500
DTSTAMP;VALUE=DATE-TIME:20260423T091714Z
UID:84cb13b0162e46f7bf4225d528be3301@www.isprambiente.gov.it
CREATED;VALUE=DATE-TIME:20171017T130135Z
LAST-MODIFIED;VALUE=DATE-TIME:20230120T134011Z
LOCATION:Modena - Università degli Studi di Modena e Reggio Emilia
URL:https://www.isprambiente.gov.it/it/archivio/notizie-e-novita-normative
 /notizie-ispra/2017/10/convegno-direzione-prevenzione
END:VEVENT
BEGIN:VTIMEZONE
TZID:Europe/Berlin
X-LIC-LOCATION:Europe/Berlin
BEGIN:DAYLIGHT
DTSTART;VALUE=DATE-TIME:20170326T030000
TZNAME:CEST
TZOFFSETFROM:+0100
TZOFFSETTO:+0200
END:DAYLIGHT
END:VTIMEZONE
END:VCALENDAR
