BEGIN:VCALENDAR
VERSION:2.0
PRODID:-//Plone.org//NONSGML plone.app.event//EN
X-WR-TIMEZONE:Europe/Berlin
BEGIN:VEVENT
SUMMARY:Ecoreati nel codice penale: numeri e storie a due anni dall’appr
 ovazione della legge
DTSTART;TZID=Europe/Berlin;VALUE=DATE-TIME:20171028T093000
DTEND;TZID=Europe/Berlin;VALUE=DATE-TIME:20171028T130000
DTSTAMP;VALUE=DATE-TIME:20260420T104920Z
UID:16c9504840f348a1be53991b62a949c3@www.isprambiente.gov.it
CREATED;VALUE=DATE-TIME:20171023T162734Z
LAST-MODIFIED;VALUE=DATE-TIME:20230120T134011Z
LOCATION:L'Aquila - Via delle Fratte
URL:https://www.isprambiente.gov.it/it/archivio/notizie-e-novita-normative
 /notizie-ispra/2017/10/ecoreati-nel-codice-penale-numeri-e-storie-a-due-an
 ni-dall2019approvazione-della-legge
END:VEVENT
BEGIN:VTIMEZONE
TZID:Europe/Berlin
X-LIC-LOCATION:Europe/Berlin
BEGIN:DAYLIGHT
DTSTART;VALUE=DATE-TIME:20170326T030000
TZNAME:CEST
TZOFFSETFROM:+0100
TZOFFSETTO:+0200
END:DAYLIGHT
END:VTIMEZONE
END:VCALENDAR
