BEGIN:VCALENDAR
VERSION:2.0
PRODID:-//Plone.org//NONSGML plone.app.event//EN
X-WR-TIMEZONE:Europe/Berlin
BEGIN:VEVENT
SUMMARY:Invasioni biologiche: impatti\, andamenti e definizione delle poli
 tiche di prevenzione e mitigazione
DTSTART;TZID=Europe/Berlin;VALUE=DATE-TIME:20171026T150000
DTEND;TZID=Europe/Berlin;VALUE=DATE-TIME:20171026T180000
DTSTAMP;VALUE=DATE-TIME:20260420T233609Z
UID:77a73c636fdb41d98024b755d4a2c907@www.isprambiente.gov.it
CREATED;VALUE=DATE-TIME:20171012T134640Z
LAST-MODIFIED;VALUE=DATE-TIME:20230120T134011Z
LOCATION:Ferrara
URL:https://www.isprambiente.gov.it/it/archivio/notizie-e-novita-normative
 /notizie-ispra/2017/10/invasioni-biologiche-impatti-andamenti-e-definizion
 e-delle-politiche-di-prevenzione-e-mitigazione
END:VEVENT
BEGIN:VTIMEZONE
TZID:Europe/Berlin
X-LIC-LOCATION:Europe/Berlin
BEGIN:DAYLIGHT
DTSTART;VALUE=DATE-TIME:20170326T030000
TZNAME:CEST
TZOFFSETFROM:+0100
TZOFFSETTO:+0200
END:DAYLIGHT
END:VTIMEZONE
END:VCALENDAR
