BEGIN:VCALENDAR
VERSION:2.0
PRODID:-//Plone.org//NONSGML plone.app.event//EN
X-WR-TIMEZONE:Europe/Berlin
BEGIN:VEVENT
SUMMARY:Piano d'Azione Nazionale (PAN) per l'uso sostenibile dei prodotti 
 fitosanitari: il ruolo dei PSR e dell’Agricoltura biologica
DTSTART;TZID=Europe/Berlin;VALUE=DATE-TIME:20171026T121500
DTEND;TZID=Europe/Berlin;VALUE=DATE-TIME:20171027T123000
DTSTAMP;VALUE=DATE-TIME:20260421T081756Z
UID:60bc2a30ae58406f8722d85dbc2b51c8@www.isprambiente.gov.it
CREATED;VALUE=DATE-TIME:20171018T142134Z
LAST-MODIFIED;VALUE=DATE-TIME:20230120T134011Z
LOCATION:Firenze
URL:https://www.isprambiente.gov.it/it/archivio/notizie-e-novita-normative
 /notizie-ispra/2017/10/piano-dazione-nazionale-pan-per-luso-sostenibile-de
 i-prodotti-fitosanitari
END:VEVENT
BEGIN:VTIMEZONE
TZID:Europe/Berlin
X-LIC-LOCATION:Europe/Berlin
BEGIN:DAYLIGHT
DTSTART;VALUE=DATE-TIME:20170326T030000
TZNAME:CEST
TZOFFSETFROM:+0100
TZOFFSETTO:+0200
END:DAYLIGHT
END:VTIMEZONE
END:VCALENDAR
