BEGIN:VCALENDAR
VERSION:2.0
PRODID:-//Plone.org//NONSGML plone.app.event//EN
X-WR-TIMEZONE:Europe/Berlin
BEGIN:VEVENT
SUMMARY:Seconda riunione di lavoro del progetto IMPEL “Integrated Water 
 Approach”
DTSTART;TZID=Europe/Berlin;VALUE=DATE-TIME:20171016T150000
DTEND;TZID=Europe/Berlin;VALUE=DATE-TIME:20171017T170000
DTSTAMP;VALUE=DATE-TIME:20260425T131911Z
UID:64fcbd5f6b61428b9a5c244a0cdc586b@www.isprambiente.gov.it
CREATED;VALUE=DATE-TIME:20171006T170537Z
LAST-MODIFIED;VALUE=DATE-TIME:20230120T134011Z
LOCATION:Coimbra - Portuguese Environment Agency regional services
URL:https://www.isprambiente.gov.it/it/archivio/notizie-e-novita-normative
 /notizie-ispra/2017/10/seconda-riunione-di-lavoro-del-progetto-impel-201ci
 ntegrated-water-approach201d
END:VEVENT
BEGIN:VTIMEZONE
TZID:Europe/Berlin
X-LIC-LOCATION:Europe/Berlin
BEGIN:DAYLIGHT
DTSTART;VALUE=DATE-TIME:20170326T030000
TZNAME:CEST
TZOFFSETFROM:+0100
TZOFFSETTO:+0200
END:DAYLIGHT
END:VTIMEZONE
END:VCALENDAR
