BEGIN:VCALENDAR
VERSION:2.0
PRODID:-//Plone.org//NONSGML plone.app.event//EN
X-WR-TIMEZONE:Europe/Berlin
BEGIN:VEVENT
SUMMARY:Ambiente e salute: un impegno comune per ridurre gli impatti sulla
  salute delle esposizioni ambientali
DTSTART;TZID=Europe/Berlin;VALUE=DATE-TIME:20171107T103000
DTEND;TZID=Europe/Berlin;VALUE=DATE-TIME:20171108T163000
DTSTAMP;VALUE=DATE-TIME:20260423T075214Z
UID:1096b716abab494aa990ff46707cbca8@www.isprambiente.gov.it
CREATED;VALUE=DATE-TIME:20170807T104239Z
DESCRIPTION:Le buone pratiche del “Sistema Nazionale per la Protezione d
 ell’Ambiente” e del “Sistema Sanitario Nazionale”
LAST-MODIFIED;VALUE=DATE-TIME:20230120T134011Z
LOCATION:Bologna
URL:https://www.isprambiente.gov.it/it/archivio/notizie-e-novita-normative
 /notizie-ispra/2017/11/ambiente-e-salute-un-impegno-comune-per-ridurre-gli
 -impatti-sulla-salute-delle-esposizioni-ambientali
END:VEVENT
BEGIN:VTIMEZONE
TZID:Europe/Berlin
X-LIC-LOCATION:Europe/Berlin
BEGIN:STANDARD
DTSTART;VALUE=DATE-TIME:20171029T020000
TZNAME:CET
TZOFFSETFROM:+0200
TZOFFSETTO:+0100
END:STANDARD
END:VTIMEZONE
END:VCALENDAR
