BEGIN:VCALENDAR
VERSION:2.0
PRODID:-//Plone.org//NONSGML plone.app.event//EN
X-WR-TIMEZONE:Europe/Berlin
BEGIN:VEVENT
SUMMARY:Riunione scientifica annuale del gruppo di algologia della Societ
 à botanica italiana
DTSTART;TZID=Europe/Berlin;VALUE=DATE-TIME:20171110T083000
DTEND;TZID=Europe/Berlin;VALUE=DATE-TIME:20171111T130000
DTSTAMP;VALUE=DATE-TIME:20260423T075235Z
UID:c476b4631538443fbd84c6f0e1248279@www.isprambiente.gov.it
CREATED;VALUE=DATE-TIME:20171109T101804Z
LAST-MODIFIED;VALUE=DATE-TIME:20230120T134011Z
LOCATION:Trieste
URL:https://www.isprambiente.gov.it/it/archivio/notizie-e-novita-normative
 /notizie-ispra/2017/11/riunione-scientifica-annuale-del-gruppo-di-algologi
 a-della-societa-botanica-italiana
END:VEVENT
BEGIN:VTIMEZONE
TZID:Europe/Berlin
X-LIC-LOCATION:Europe/Berlin
BEGIN:STANDARD
DTSTART;VALUE=DATE-TIME:20171029T020000
TZNAME:CET
TZOFFSETFROM:+0200
TZOFFSETTO:+0100
END:STANDARD
END:VTIMEZONE
END:VCALENDAR
