BEGIN:VCALENDAR
VERSION:2.0
PRODID:-//Plone.org//NONSGML plone.app.event//EN
X-WR-TIMEZONE:Europe/Berlin
BEGIN:VEVENT
SUMMARY:Garantire le produzioni agricole\, sostenere la biodiversità
DTSTART;TZID=Europe/Berlin;VALUE=DATE-TIME:20171220T090000
DTEND;TZID=Europe/Berlin;VALUE=DATE-TIME:20171220T170000
DTSTAMP;VALUE=DATE-TIME:20260423T075235Z
UID:7f2b6b71682f488f9d93e815f339126c@www.isprambiente.gov.it
CREATED;VALUE=DATE-TIME:20171212T130848Z
LAST-MODIFIED;VALUE=DATE-TIME:20230120T134012Z
LOCATION:Sabaudia
URL:https://www.isprambiente.gov.it/it/archivio/notizie-e-novita-normative
 /notizie-ispra/2017/12/garantire-le-produzioni-agricole-sostenere-la-biodi
 versita
END:VEVENT
BEGIN:VTIMEZONE
TZID:Europe/Berlin
X-LIC-LOCATION:Europe/Berlin
BEGIN:STANDARD
DTSTART;VALUE=DATE-TIME:20171029T020000
TZNAME:CET
TZOFFSETFROM:+0200
TZOFFSETTO:+0100
END:STANDARD
END:VTIMEZONE
END:VCALENDAR
