BEGIN:VCALENDAR
VERSION:2.0
PRODID:-//Plone.org//NONSGML plone.app.event//EN
X-WR-TIMEZONE:Europe/Berlin
BEGIN:VEVENT
SUMMARY:Marine litter: da emergenza ambientale a potenziale risorsa
DTSTART;TZID=Europe/Berlin;VALUE=DATE-TIME:20171201T090000
DTEND;TZID=Europe/Berlin;VALUE=DATE-TIME:20171201T133000
DTSTAMP;VALUE=DATE-TIME:20260423T075104Z
UID:1579fca7b14e417abec17c3a8322d66b@www.isprambiente.gov.it
CREATED;VALUE=DATE-TIME:20171128T124041Z
DESCRIPTION:Convegno
LAST-MODIFIED;VALUE=DATE-TIME:20230120T134011Z
LOCATION:Roma - Accademia dei Lincei
URL:https://www.isprambiente.gov.it/it/archivio/notizie-e-novita-normative
 /notizie-ispra/2017/12/marine-litter-da-emergenza-ambientale-a-potenziale-
 risorsa
END:VEVENT
BEGIN:VTIMEZONE
TZID:Europe/Berlin
X-LIC-LOCATION:Europe/Berlin
BEGIN:STANDARD
DTSTART;VALUE=DATE-TIME:20171029T020000
TZNAME:CET
TZOFFSETFROM:+0200
TZOFFSETTO:+0100
END:STANDARD
END:VTIMEZONE
END:VCALENDAR
