BEGIN:VCALENDAR
VERSION:2.0
PRODID:-//Plone.org//NONSGML plone.app.event//EN
X-WR-TIMEZONE:Europe/Berlin
BEGIN:VEVENT
SUMMARY:Workshop finale del progetto IMPEL “Integrated Water Approach”
DTSTART;TZID=Europe/Berlin;VALUE=DATE-TIME:20171218T150000
DTEND;TZID=Europe/Berlin;VALUE=DATE-TIME:20171219T130000
DTSTAMP;VALUE=DATE-TIME:20260423T075019Z
UID:4141fbe749e44231883aad07bc0ec555@www.isprambiente.gov.it
CREATED;VALUE=DATE-TIME:20171201T101621Z
LAST-MODIFIED;VALUE=DATE-TIME:20230120T134011Z
LOCATION:Roma
URL:https://www.isprambiente.gov.it/it/archivio/notizie-e-novita-normative
 /notizie-ispra/2017/12/workshop-finale-del-progetto-impel-201cintegrated-w
 ater-approach201d
END:VEVENT
BEGIN:VTIMEZONE
TZID:Europe/Berlin
X-LIC-LOCATION:Europe/Berlin
BEGIN:STANDARD
DTSTART;VALUE=DATE-TIME:20171029T020000
TZNAME:CET
TZOFFSETFROM:+0200
TZOFFSETTO:+0100
END:STANDARD
END:VTIMEZONE
END:VCALENDAR
