BEGIN:VCALENDAR
VERSION:2.0
PRODID:-//Plone.org//NONSGML plone.app.event//EN
X-WR-TIMEZONE:Europe/Berlin
BEGIN:VEVENT
SUMMARY:XXVI Rassegna del Mare 
DTSTART;TZID=Europe/Berlin;VALUE=DATE-TIME:20171201T090000
DTEND;TZID=Europe/Berlin;VALUE=DATE-TIME:20171203T120000
DTSTAMP;VALUE=DATE-TIME:20260423T075020Z
UID:4dbda920a4b440139a82f66abb4204f9@www.isprambiente.gov.it
CREATED;VALUE=DATE-TIME:20171117T111526Z
LAST-MODIFIED;VALUE=DATE-TIME:20230120T134012Z
LOCATION:Livorno
URL:https://www.isprambiente.gov.it/it/archivio/notizie-e-novita-normative
 /notizie-ispra/2017/12/xxvi-rassegna-del-mare
END:VEVENT
BEGIN:VTIMEZONE
TZID:Europe/Berlin
X-LIC-LOCATION:Europe/Berlin
BEGIN:STANDARD
DTSTART;VALUE=DATE-TIME:20171029T020000
TZNAME:CET
TZOFFSETFROM:+0200
TZOFFSETTO:+0100
END:STANDARD
END:VTIMEZONE
END:VCALENDAR
