BEGIN:VCALENDAR
VERSION:2.0
PRODID:-//Plone.org//NONSGML plone.app.event//EN
X-WR-TIMEZONE:Europe/Berlin
BEGIN:VEVENT
SUMMARY:Conferenza finale LIFE SeResto 
DTSTART;TZID=Europe/Berlin;VALUE=DATE-TIME:20180222T093000
DTEND;TZID=Europe/Berlin;VALUE=DATE-TIME:20180222T130000
DTSTAMP;VALUE=DATE-TIME:20260423T091650Z
UID:252d8b4c53cb486397aa752186488c46@www.isprambiente.gov.it
CREATED;VALUE=DATE-TIME:20180221T110454Z
LAST-MODIFIED;VALUE=DATE-TIME:20230120T133556Z
LOCATION:Venezia
URL:https://www.isprambiente.gov.it/it/archivio/notizie-e-novita-normative
 /notizie-ispra/2018/02/conferenza-finale-life-seresto
END:VEVENT
BEGIN:VTIMEZONE
TZID:Europe/Berlin
X-LIC-LOCATION:Europe/Berlin
BEGIN:STANDARD
DTSTART;VALUE=DATE-TIME:20171029T020000
TZNAME:CET
TZOFFSETFROM:+0200
TZOFFSETTO:+0100
END:STANDARD
END:VTIMEZONE
END:VCALENDAR
