BEGIN:VCALENDAR
VERSION:2.0
PRODID:-//Plone.org//NONSGML plone.app.event//EN
X-WR-TIMEZONE:Europe/Berlin
BEGIN:VEVENT
SUMMARY:Convegno di presentazione del progetto LIFE Redune
DTSTART;TZID=Europe/Berlin;VALUE=DATE-TIME:20180223T090000
DTEND;TZID=Europe/Berlin;VALUE=DATE-TIME:20180223T130000
DTSTAMP;VALUE=DATE-TIME:20260423T075134Z
UID:265fdf76e5ed4ed9a24e72bfc5449cc6@www.isprambiente.gov.it
CREATED;VALUE=DATE-TIME:20180221T114000Z
LAST-MODIFIED;VALUE=DATE-TIME:20230120T133556Z
LOCATION:Mestre
URL:https://www.isprambiente.gov.it/it/archivio/notizie-e-novita-normative
 /notizie-ispra/2018/02/convegno-di-presentazione-del-progetto-life-redune
END:VEVENT
BEGIN:VTIMEZONE
TZID:Europe/Berlin
X-LIC-LOCATION:Europe/Berlin
BEGIN:STANDARD
DTSTART;VALUE=DATE-TIME:20171029T020000
TZNAME:CET
TZOFFSETFROM:+0200
TZOFFSETTO:+0100
END:STANDARD
END:VTIMEZONE
END:VCALENDAR
