BEGIN:VCALENDAR
VERSION:2.0
PRODID:-//Plone.org//NONSGML plone.app.event//EN
X-WR-TIMEZONE:Europe/Berlin
BEGIN:VEVENT
SUMMARY:La previsione idrogeologica sulla risorsa acqua
DTSTART;TZID=Europe/Berlin;VALUE=DATE-TIME:20180322T093000
DTEND;TZID=Europe/Berlin;VALUE=DATE-TIME:20180322T170000
DTSTAMP;VALUE=DATE-TIME:20260423T075019Z
UID:908139a78e5e4f3ea9c5d1b3dcad7da3@www.isprambiente.gov.it
CREATED;VALUE=DATE-TIME:20180306T105557Z
LAST-MODIFIED;VALUE=DATE-TIME:20230120T133556Z
LOCATION:Roma
URL:https://www.isprambiente.gov.it/it/archivio/notizie-e-novita-normative
 /notizie-ispra/2018/03/la-previsione-idrogeologica-sulla-risorsa-acqua
END:VEVENT
BEGIN:VTIMEZONE
TZID:Europe/Berlin
X-LIC-LOCATION:Europe/Berlin
BEGIN:STANDARD
DTSTART;VALUE=DATE-TIME:20171029T020000
TZNAME:CET
TZOFFSETFROM:+0200
TZOFFSETTO:+0100
END:STANDARD
END:VTIMEZONE
END:VCALENDAR
