BEGIN:VCALENDAR
VERSION:2.0
PRODID:-//Plone.org//NONSGML plone.app.event//EN
X-WR-TIMEZONE:Europe/Berlin
BEGIN:VEVENT
SUMMARY:Rendere l'acqua sotterranea\, visibile\, accessibile e preziosa
DTSTART;TZID=Europe/Berlin;VALUE=DATE-TIME:20180326T143000
DTEND;TZID=Europe/Berlin;VALUE=DATE-TIME:20180326T183000
DTSTAMP;VALUE=DATE-TIME:20260423T091726Z
UID:1ae9ec4adda6458e8f7c9c618ff93026@www.isprambiente.gov.it
CREATED;VALUE=DATE-TIME:20180322T100133Z
DESCRIPTION:2° Workshop internazionale Kindra
LAST-MODIFIED;VALUE=DATE-TIME:20230120T133556Z
LOCATION:Roma
URL:https://www.isprambiente.gov.it/it/archivio/notizie-e-novita-normative
 /notizie-ispra/2018/03/rendere-lacqua-sotterranea-visibile-accessibile-e-p
 reziosa
END:VEVENT
BEGIN:VTIMEZONE
TZID:Europe/Berlin
X-LIC-LOCATION:Europe/Berlin
BEGIN:DAYLIGHT
DTSTART;VALUE=DATE-TIME:20180325T030000
TZNAME:CEST
TZOFFSETFROM:+0100
TZOFFSETTO:+0200
END:DAYLIGHT
END:VTIMEZONE
END:VCALENDAR
