BEGIN:VCALENDAR
VERSION:2.0
PRODID:-//Plone.org//NONSGML plone.app.event//EN
X-WR-TIMEZONE:Europe/Berlin
BEGIN:VEVENT
SUMMARY:SharingWater Knowledge & Information: Italy for WASAG – WaterSca
 rcity in AGriculture
DTSTART;TZID=Europe/Berlin;VALUE=DATE-TIME:20180328T090000
DTEND;TZID=Europe/Berlin;VALUE=DATE-TIME:20180328T130000
DTSTAMP;VALUE=DATE-TIME:20260423T075111Z
UID:ef192fb223964205be56e40dfd953060@www.isprambiente.gov.it
CREATED;VALUE=DATE-TIME:20180321T111450Z
LAST-MODIFIED;VALUE=DATE-TIME:20230120T133556Z
LOCATION:Roma
URL:https://www.isprambiente.gov.it/it/archivio/notizie-e-novita-normative
 /notizie-ispra/2018/03/sharingwater-knowledge-information-italy-for-wasag-
 2013-waterscarcity-in-agriculture
END:VEVENT
BEGIN:VTIMEZONE
TZID:Europe/Berlin
X-LIC-LOCATION:Europe/Berlin
BEGIN:DAYLIGHT
DTSTART;VALUE=DATE-TIME:20180325T030000
TZNAME:CEST
TZOFFSETFROM:+0100
TZOFFSETTO:+0200
END:DAYLIGHT
END:VTIMEZONE
END:VCALENDAR
