BEGIN:VCALENDAR
VERSION:2.0
PRODID:-//Plone.org//NONSGML plone.app.event//EN
X-WR-TIMEZONE:Europe/Berlin
BEGIN:VEVENT
SUMMARY:Sicilia … “Geologia in movimento”: viaggio nella storia sism
 ica del territorio siciliano
DTSTART;TZID=Europe/Berlin;VALUE=DATE-TIME:20180315T000000
DTEND;TZID=Europe/Berlin;VALUE=DATE-TIME:20180317T000000
DTSTAMP;VALUE=DATE-TIME:20260420T105307Z
UID:028e36df5a7f4e859b054e3bfda6f48f@www.isprambiente.gov.it
CREATED;VALUE=DATE-TIME:20180314T122034Z
LAST-MODIFIED;VALUE=DATE-TIME:20230120T133556Z
LOCATION:Valle del Belice\; Val di Noto\; Messina
URL:https://www.isprambiente.gov.it/it/archivio/notizie-e-novita-normative
 /notizie-ispra/2018/03/sicilia-...-201cgeologia-in-movimento201d-viaggio-n
 ella-storia-sismica-del-territorio-siciliano
END:VEVENT
BEGIN:VTIMEZONE
TZID:Europe/Berlin
X-LIC-LOCATION:Europe/Berlin
BEGIN:STANDARD
DTSTART;VALUE=DATE-TIME:20171029T020000
TZNAME:CET
TZOFFSETFROM:+0200
TZOFFSETTO:+0100
END:STANDARD
END:VTIMEZONE
END:VCALENDAR
