BEGIN:VCALENDAR
VERSION:2.0
PRODID:-//Plone.org//NONSGML plone.app.event//EN
X-WR-TIMEZONE:Europe/Berlin
BEGIN:VEVENT
SUMMARY:Sos Mare nostrum
DTSTART;TZID=Europe/Berlin;VALUE=DATE-TIME:20180420T160000
DTEND;TZID=Europe/Berlin;VALUE=DATE-TIME:20180420T200000
DTSTAMP;VALUE=DATE-TIME:20260423T074936Z
UID:4b526035676b4b4cae46c7ca02d5586b@www.isprambiente.gov.it
CREATED;VALUE=DATE-TIME:20180418T162731Z
LAST-MODIFIED;VALUE=DATE-TIME:20230120T133556Z
LOCATION:Roma
URL:https://www.isprambiente.gov.it/it/archivio/notizie-e-novita-normative
 /notizie-ispra/2018/04/sos-mare-nostrum
END:VEVENT
BEGIN:VTIMEZONE
TZID:Europe/Berlin
X-LIC-LOCATION:Europe/Berlin
BEGIN:DAYLIGHT
DTSTART;VALUE=DATE-TIME:20180325T030000
TZNAME:CEST
TZOFFSETFROM:+0100
TZOFFSETTO:+0200
END:DAYLIGHT
END:VTIMEZONE
END:VCALENDAR
