BEGIN:VCALENDAR
VERSION:2.0
PRODID:-//Plone.org//NONSGML plone.app.event//EN
X-WR-TIMEZONE:Europe/Berlin
BEGIN:VEVENT
SUMMARY:Giornate di condivisione e confronto delle attività del SNPA negl
 i ambienti marini e di transizione
DTSTART;TZID=Europe/Berlin;VALUE=DATE-TIME:20180523T103000
DTEND;TZID=Europe/Berlin;VALUE=DATE-TIME:20180524T133000
DTSTAMP;VALUE=DATE-TIME:20260423T074947Z
UID:ded9e5d04e6a4b218d2576d234c20a56@www.isprambiente.gov.it
CREATED;VALUE=DATE-TIME:20180521T110259Z
LAST-MODIFIED;VALUE=DATE-TIME:20230120T133607Z
LOCATION:Roma - ISPRA\, Via V. Brancati 48
URL:https://www.isprambiente.gov.it/it/archivio/notizie-e-novita-normative
 /notizie-ispra/2018/05/seminario-snpa-mare
END:VEVENT
BEGIN:VTIMEZONE
TZID:Europe/Berlin
X-LIC-LOCATION:Europe/Berlin
BEGIN:DAYLIGHT
DTSTART;VALUE=DATE-TIME:20180325T030000
TZNAME:CEST
TZOFFSETFROM:+0100
TZOFFSETTO:+0200
END:DAYLIGHT
END:VTIMEZONE
END:VCALENDAR
