BEGIN:VCALENDAR
VERSION:2.0
PRODID:-//Plone.org//NONSGML plone.app.event//EN
X-WR-TIMEZONE:Europe/Berlin
BEGIN:VEVENT
SUMMARY:Smart ports: sedimenti\, sostenibilità\, attività portuali\, ope
 re\, logistica
DTSTART;TZID=Europe/Berlin;VALUE=DATE-TIME:20180522T100000
DTEND;TZID=Europe/Berlin;VALUE=DATE-TIME:20180522T140000
DTSTAMP;VALUE=DATE-TIME:20260423T135015Z
UID:dc1a412b1afc43b595e4e9f5ca6f8dd9@www.isprambiente.gov.it
CREATED;VALUE=DATE-TIME:20180509T144424Z
LAST-MODIFIED;VALUE=DATE-TIME:20230120T133607Z
LOCATION:Roma
URL:https://www.isprambiente.gov.it/it/archivio/notizie-e-novita-normative
 /notizie-ispra/2018/05/smart-ports-sedimenti-sostenibilita-attivita-portua
 li-opere-logistica
END:VEVENT
BEGIN:VTIMEZONE
TZID:Europe/Berlin
X-LIC-LOCATION:Europe/Berlin
BEGIN:DAYLIGHT
DTSTART;VALUE=DATE-TIME:20180325T030000
TZNAME:CEST
TZOFFSETFROM:+0100
TZOFFSETTO:+0200
END:DAYLIGHT
END:VTIMEZONE
END:VCALENDAR
