BEGIN:VCALENDAR
VERSION:2.0
PRODID:-//Plone.org//NONSGML plone.app.event//EN
X-WR-TIMEZONE:Europe/Berlin
BEGIN:VEVENT
SUMMARY:FUTURAcqua - #FUTURARIETI
DTSTART;TZID=Europe/Berlin;VALUE=DATE-TIME:20180607T000000
DTEND;TZID=Europe/Berlin;VALUE=DATE-TIME:20180609T000000
DTSTAMP;VALUE=DATE-TIME:20260423T075105Z
UID:ce77c25e7e3141908466cc9319ab401a@www.isprambiente.gov.it
CREATED;VALUE=DATE-TIME:20180601T115857Z
LAST-MODIFIED;VALUE=DATE-TIME:20230120T133607Z
LOCATION:Rieti
URL:https://www.isprambiente.gov.it/it/archivio/notizie-e-novita-normative
 /notizie-ispra/2018/06/futuracqua-futurarieti
END:VEVENT
BEGIN:VTIMEZONE
TZID:Europe/Berlin
X-LIC-LOCATION:Europe/Berlin
BEGIN:DAYLIGHT
DTSTART;VALUE=DATE-TIME:20180325T030000
TZNAME:CEST
TZOFFSETFROM:+0100
TZOFFSETTO:+0200
END:DAYLIGHT
END:VTIMEZONE
END:VCALENDAR
