BEGIN:VCALENDAR
VERSION:2.0
PRODID:-//Plone.org//NONSGML plone.app.event//EN
X-WR-TIMEZONE:Europe/Berlin
BEGIN:VEVENT
SUMMARY:GOVERNANCE H30 - Costruzione partecipativa di nuovi scenari di gov
 ernance delle risorse e dei rischi naturali
DTSTART;TZID=Europe/Berlin;VALUE=DATE-TIME:20180608T093000
DTEND;TZID=Europe/Berlin;VALUE=DATE-TIME:20180608T160000
DTSTAMP;VALUE=DATE-TIME:20260423T080201Z
UID:4c9389869af54350b570097170820f04@www.isprambiente.gov.it
CREATED;VALUE=DATE-TIME:20180601T170236Z
LAST-MODIFIED;VALUE=DATE-TIME:20230120T133607Z
LOCATION:Orvieto
URL:https://www.isprambiente.gov.it/it/archivio/notizie-e-novita-normative
 /notizie-ispra/2018/06/governance-h30-costruzione-partecipativa-di-nuovi-s
 cenari-di-governance-delle-risorse-e-dei-rischi-naturali
END:VEVENT
BEGIN:VTIMEZONE
TZID:Europe/Berlin
X-LIC-LOCATION:Europe/Berlin
BEGIN:DAYLIGHT
DTSTART;VALUE=DATE-TIME:20180325T030000
TZNAME:CEST
TZOFFSETFROM:+0100
TZOFFSETTO:+0200
END:DAYLIGHT
END:VTIMEZONE
END:VCALENDAR
