BEGIN:VCALENDAR
VERSION:2.0
PRODID:-//Plone.org//NONSGML plone.app.event//EN
X-WR-TIMEZONE:Europe/Berlin
BEGIN:VEVENT
SUMMARY:World Oceans Day: Natura\, Scienza e Storia si incontrano in lagun
 a
DTSTART;TZID=Europe/Berlin;VALUE=DATE-TIME:20180608T160000
DTEND;TZID=Europe/Berlin;VALUE=DATE-TIME:20180608T180000
DTSTAMP;VALUE=DATE-TIME:20260423T075126Z
UID:8a4fad6c2d01486396ed6ea96531c7be@www.isprambiente.gov.it
CREATED;VALUE=DATE-TIME:20180522T125939Z
LAST-MODIFIED;VALUE=DATE-TIME:20230120T133607Z
LOCATION:Venezia
URL:https://www.isprambiente.gov.it/it/archivio/notizie-e-novita-normative
 /notizie-ispra/2018/06/world-oceans-day-natura-scienza-e-storia-si-incontr
 ano-in-laguna
END:VEVENT
BEGIN:VTIMEZONE
TZID:Europe/Berlin
X-LIC-LOCATION:Europe/Berlin
BEGIN:DAYLIGHT
DTSTART;VALUE=DATE-TIME:20180325T030000
TZNAME:CEST
TZOFFSETFROM:+0100
TZOFFSETTO:+0200
END:DAYLIGHT
END:VTIMEZONE
END:VCALENDAR
