BEGIN:VCALENDAR
VERSION:2.0
PRODID:-//Plone.org//NONSGML plone.app.event//EN
X-WR-TIMEZONE:Europe/Berlin
BEGIN:VEVENT
SUMMARY:Cambiamenti climatici e variazioni del livello del Mar Mediterrane
 o 
DTSTART;TZID=Europe/Berlin;VALUE=DATE-TIME:20180705T093000
DTEND;TZID=Europe/Berlin;VALUE=DATE-TIME:20180706T163000
DTSTAMP;VALUE=DATE-TIME:20260423T075126Z
UID:447b3c94c017450c939829e3d82091e9@www.isprambiente.gov.it
CREATED;VALUE=DATE-TIME:20180611T103636Z
LAST-MODIFIED;VALUE=DATE-TIME:20230120T133607Z
LOCATION:Roma
URL:https://www.isprambiente.gov.it/it/archivio/notizie-e-novita-normative
 /notizie-ispra/2018/07/cambiamenti-climatici-e-variazioni-del-livello-del-
 mar-mediterraneo
END:VEVENT
BEGIN:VTIMEZONE
TZID:Europe/Berlin
X-LIC-LOCATION:Europe/Berlin
BEGIN:DAYLIGHT
DTSTART;VALUE=DATE-TIME:20180325T030000
TZNAME:CEST
TZOFFSETFROM:+0100
TZOFFSETTO:+0200
END:DAYLIGHT
END:VTIMEZONE
END:VCALENDAR
