BEGIN:VCALENDAR
VERSION:2.0
PRODID:-//Plone.org//NONSGML plone.app.event//EN
X-WR-TIMEZONE:Europe/Berlin
BEGIN:VEVENT
SUMMARY:Costruire il bilancio idrologico nazionale: un nuovo modello di co
 noscenza ambientale a servizio dei cittadini
DTSTART;TZID=Europe/Berlin;VALUE=DATE-TIME:20180731T093000
DTEND;TZID=Europe/Berlin;VALUE=DATE-TIME:20180731T130000
DTSTAMP;VALUE=DATE-TIME:20260423T075234Z
UID:266ecde900004ce9acd189d6188828db@www.isprambiente.gov.it
CREATED;VALUE=DATE-TIME:20180720T155138Z
LAST-MODIFIED;VALUE=DATE-TIME:20230120T133607Z
LOCATION:Roma\, Auditorium ISPRA\, Via V. Brancati\, 48
URL:https://www.isprambiente.gov.it/it/archivio/notizie-e-novita-normative
 /notizie-ispra/2018/07/costruire-il-bilancio-idrologico-nazionale-un-nuovo
 -modello-di-conoscenza-ambientale-a-servizio-dei-cittadini
END:VEVENT
BEGIN:VTIMEZONE
TZID:Europe/Berlin
X-LIC-LOCATION:Europe/Berlin
BEGIN:DAYLIGHT
DTSTART;VALUE=DATE-TIME:20180325T030000
TZNAME:CEST
TZOFFSETFROM:+0100
TZOFFSETTO:+0200
END:DAYLIGHT
END:VTIMEZONE
END:VCALENDAR
