BEGIN:VCALENDAR
VERSION:2.0
PRODID:-//Plone.org//NONSGML plone.app.event//EN
X-WR-TIMEZONE:Europe/Berlin
BEGIN:VEVENT
SUMMARY:Convegno “Emergenza mare: conoscere per agire”
DTSTART;TZID=Europe/Berlin;VALUE=DATE-TIME:20180811T100000
DTEND;TZID=Europe/Berlin;VALUE=DATE-TIME:20180811T160000
DTSTAMP;VALUE=DATE-TIME:20260423T075104Z
UID:8b9c5cafdb004218bcf18d94f1fc23dc@www.isprambiente.gov.it
CREATED;VALUE=DATE-TIME:20180802T095446Z
LAST-MODIFIED;VALUE=DATE-TIME:20230120T133607Z
LOCATION:Muggia
URL:https://www.isprambiente.gov.it/it/archivio/notizie-e-novita-normative
 /notizie-ispra/2018/08/convegno-201cemergenza-mare-conoscere-per-agire201d
END:VEVENT
BEGIN:VTIMEZONE
TZID:Europe/Berlin
X-LIC-LOCATION:Europe/Berlin
BEGIN:DAYLIGHT
DTSTART;VALUE=DATE-TIME:20180325T030000
TZNAME:CEST
TZOFFSETFROM:+0100
TZOFFSETTO:+0200
END:DAYLIGHT
END:VTIMEZONE
END:VCALENDAR
