BEGIN:VCALENDAR
VERSION:2.0
PRODID:-//Plone.org//NONSGML plone.app.event//EN
X-WR-TIMEZONE:Europe/Berlin
BEGIN:VEVENT
SUMMARY:Seminario “Le plastiche in mare e sui litorali: problemi e propo
 ste”
DTSTART;TZID=Europe/Berlin;VALUE=DATE-TIME:20180808T170000
DTEND;TZID=Europe/Berlin;VALUE=DATE-TIME:20180808T200000
DTSTAMP;VALUE=DATE-TIME:20260423T074936Z
UID:14aee855c18445dbb83c4461e598da45@www.isprambiente.gov.it
CREATED;VALUE=DATE-TIME:20180802T100304Z
LAST-MODIFIED;VALUE=DATE-TIME:20230120T133607Z
LOCATION:Chioggia\, Comune (Sala Consiliare)
URL:https://www.isprambiente.gov.it/it/archivio/notizie-e-novita-normative
 /notizie-ispra/2018/08/seminario-201cle-plastiche-in-mare-e-sui-litorali-p
 roblemi-e-proposte201d
END:VEVENT
BEGIN:VTIMEZONE
TZID:Europe/Berlin
X-LIC-LOCATION:Europe/Berlin
BEGIN:DAYLIGHT
DTSTART;VALUE=DATE-TIME:20180325T030000
TZNAME:CEST
TZOFFSETFROM:+0100
TZOFFSETTO:+0200
END:DAYLIGHT
END:VTIMEZONE
END:VCALENDAR
