BEGIN:VCALENDAR
VERSION:2.0
PRODID:-//Plone.org//NONSGML plone.app.event//EN
X-WR-TIMEZONE:Europe/Berlin
BEGIN:VEVENT
SUMMARY:Plastica: dal mare all’uomo\, dall’uomo al mare
DTSTART;TZID=Europe/Berlin;VALUE=DATE-TIME:20180928T203000
DTEND;TZID=Europe/Berlin;VALUE=DATE-TIME:20180928T230000
DTSTAMP;VALUE=DATE-TIME:20260423T045709Z
UID:271ab48adcc14446a7ff1bc11a14b13a@www.isprambiente.gov.it
CREATED;VALUE=DATE-TIME:20180928T171559Z
LAST-MODIFIED;VALUE=DATE-TIME:20230120T133607Z
LOCATION:Azzano Decimo (PN)
URL:https://www.isprambiente.gov.it/it/archivio/notizie-e-novita-normative
 /notizie-ispra/2018/09/plastica-dal-mare-all2019uomo-dall2019uomo-al-mare
END:VEVENT
BEGIN:VTIMEZONE
TZID:Europe/Berlin
X-LIC-LOCATION:Europe/Berlin
BEGIN:DAYLIGHT
DTSTART;VALUE=DATE-TIME:20180325T030000
TZNAME:CEST
TZOFFSETFROM:+0100
TZOFFSETTO:+0200
END:DAYLIGHT
END:VTIMEZONE
END:VCALENDAR
