BEGIN:VCALENDAR
VERSION:2.0
PRODID:-//Plone.org//NONSGML plone.app.event//EN
X-WR-TIMEZONE:Europe/Berlin
BEGIN:VEVENT
SUMMARY:Climathon
DTSTART;TZID=Europe/Berlin;VALUE=DATE-TIME:20181025T000000
DTEND;TZID=Europe/Berlin;VALUE=DATE-TIME:20181026T000000
DTSTAMP;VALUE=DATE-TIME:20260423T050322Z
UID:25dbbc77ce17410bb5d162f54e65b3c2@www.isprambiente.gov.it
CREATED;VALUE=DATE-TIME:20181025T104424Z
LAST-MODIFIED;VALUE=DATE-TIME:20230120T133607Z
LOCATION:Venezia
URL:https://www.isprambiente.gov.it/it/archivio/notizie-e-novita-normative
 /notizie-ispra/2018/10/climathon
END:VEVENT
BEGIN:VTIMEZONE
TZID:Europe/Berlin
X-LIC-LOCATION:Europe/Berlin
BEGIN:DAYLIGHT
DTSTART;VALUE=DATE-TIME:20180325T030000
TZNAME:CEST
TZOFFSETFROM:+0100
TZOFFSETTO:+0200
END:DAYLIGHT
END:VTIMEZONE
END:VCALENDAR
