BEGIN:VCALENDAR
VERSION:2.0
PRODID:-//Plone.org//NONSGML plone.app.event//EN
X-WR-TIMEZONE:Europe/Berlin
BEGIN:VEVENT
SUMMARY:I Criteri Ambientali Minimi (CAM) e la geologia ambientale: un pat
 to per le infrastrutture
DTSTART;TZID=Europe/Berlin;VALUE=DATE-TIME:20181004T140000
DTEND;TZID=Europe/Berlin;VALUE=DATE-TIME:20181004T173000
DTSTAMP;VALUE=DATE-TIME:20260423T105258Z
UID:79adee0e29234b7eb42d117ebc5e2a7b@www.isprambiente.gov.it
CREATED;VALUE=DATE-TIME:20180928T121651Z
LAST-MODIFIED;VALUE=DATE-TIME:20230120T133607Z
LOCATION:Piacenza
URL:https://www.isprambiente.gov.it/it/archivio/notizie-e-novita-normative
 /notizie-ispra/2018/10/i-criteri-ambientali-minimi-cam-e-la-geologia-ambie
 ntale-un-patto-per-le-infrastrutture
END:VEVENT
BEGIN:VTIMEZONE
TZID:Europe/Berlin
X-LIC-LOCATION:Europe/Berlin
BEGIN:DAYLIGHT
DTSTART;VALUE=DATE-TIME:20180325T030000
TZNAME:CEST
TZOFFSETFROM:+0100
TZOFFSETTO:+0200
END:DAYLIGHT
END:VTIMEZONE
END:VCALENDAR
