BEGIN:VCALENDAR
VERSION:2.0
PRODID:-//Plone.org//NONSGML plone.app.event//EN
X-WR-TIMEZONE:Europe/Berlin
BEGIN:VEVENT
SUMMARY:Plastic Busters MPAs al “Blue Sea Land” di Mazara del Vallo
DTSTART;TZID=Europe/Berlin;VALUE=DATE-TIME:20181004T000000
DTEND;TZID=Europe/Berlin;VALUE=DATE-TIME:20181007T000000
DTSTAMP;VALUE=DATE-TIME:20260423T050458Z
UID:9910ea2407114c7b9399f07c238a59a9@www.isprambiente.gov.it
CREATED;VALUE=DATE-TIME:20181001T141444Z
LAST-MODIFIED;VALUE=DATE-TIME:20230120T133607Z
LOCATION: Mazara del Vallo (TP)
URL:https://www.isprambiente.gov.it/it/archivio/notizie-e-novita-normative
 /notizie-ispra/2018/10/plastic-busters-mpas-al-201cblue-sea-land201d-di-ma
 zara-del-vallo
END:VEVENT
BEGIN:VTIMEZONE
TZID:Europe/Berlin
X-LIC-LOCATION:Europe/Berlin
BEGIN:DAYLIGHT
DTSTART;VALUE=DATE-TIME:20180325T030000
TZNAME:CEST
TZOFFSETFROM:+0100
TZOFFSETTO:+0200
END:DAYLIGHT
END:VTIMEZONE
END:VCALENDAR
