BEGIN:VCALENDAR
VERSION:2.0
PRODID:-//Plone.org//NONSGML plone.app.event//EN
X-WR-TIMEZONE:Europe/Berlin
BEGIN:VEVENT
SUMMARY:Come attuare la strategia europea sulla plastica in un’economia 
 circolare
DTSTART;TZID=Europe/Berlin;VALUE=DATE-TIME:20181107T140000
DTEND;TZID=Europe/Berlin;VALUE=DATE-TIME:20181107T170000
DTSTAMP;VALUE=DATE-TIME:20260423T063100Z
UID:0b84bc4a06c54852a9d933400cef9dc1@www.isprambiente.gov.it
CREATED;VALUE=DATE-TIME:20181107T130528Z
LAST-MODIFIED;VALUE=DATE-TIME:20230120T133617Z
LOCATION:Ecomondo - Fiera di Rimini
URL:https://www.isprambiente.gov.it/it/archivio/notizie-e-novita-normative
 /notizie-ispra/2018/11/come-attuare-la-strategia-europea-sulla-plastica-in
 -un2019economia-circolare
END:VEVENT
BEGIN:VTIMEZONE
TZID:Europe/Berlin
X-LIC-LOCATION:Europe/Berlin
BEGIN:STANDARD
DTSTART;VALUE=DATE-TIME:20181028T020000
TZNAME:CET
TZOFFSETFROM:+0200
TZOFFSETTO:+0100
END:STANDARD
END:VTIMEZONE
END:VCALENDAR
