BEGIN:VCALENDAR
VERSION:2.0
PRODID:-//Plone.org//NONSGML plone.app.event//EN
X-WR-TIMEZONE:Europe/Berlin
BEGIN:VEVENT
SUMMARY:La sicurezza alimentare sul territorio italiano. Indicatori statis
 tici e metodi di sintesi
DTSTART;TZID=Europe/Berlin;VALUE=DATE-TIME:20181129T093000
DTEND;TZID=Europe/Berlin;VALUE=DATE-TIME:20181129T170000
DTSTAMP;VALUE=DATE-TIME:20260423T013627Z
UID:114344f095d748d0926602b1ee428cb5@www.isprambiente.gov.it
CREATED;VALUE=DATE-TIME:20181126T103421Z
LAST-MODIFIED;VALUE=DATE-TIME:20230120T133617Z
LOCATION:Roma
URL:https://www.isprambiente.gov.it/it/archivio/notizie-e-novita-normative
 /notizie-ispra/2018/11/la-sicurezza-alimentare-sul-territorio-italiano.-in
 dicatori-statistici-e-metodi-di-sintesi
END:VEVENT
BEGIN:VTIMEZONE
TZID:Europe/Berlin
X-LIC-LOCATION:Europe/Berlin
BEGIN:STANDARD
DTSTART;VALUE=DATE-TIME:20181028T020000
TZNAME:CET
TZOFFSETFROM:+0200
TZOFFSETTO:+0100
END:STANDARD
END:VTIMEZONE
END:VCALENDAR
