BEGIN:VCALENDAR
VERSION:2.0
PRODID:-//Plone.org//NONSGML plone.app.event//EN
X-WR-TIMEZONE:Europe/Berlin
BEGIN:VEVENT
SUMMARY:Conferenza "Plastica a mare"
DTSTART;TZID=Europe/Berlin;VALUE=DATE-TIME:20181216T173000
DTEND;TZID=Europe/Berlin;VALUE=DATE-TIME:20181216T200000
DTSTAMP;VALUE=DATE-TIME:20260423T062808Z
UID:1683422a685240e1880ee84e8cfb1315@www.isprambiente.gov.it
CREATED;VALUE=DATE-TIME:20181214T130430Z
LAST-MODIFIED;VALUE=DATE-TIME:20230120T133617Z
LOCATION:Venezia
URL:https://www.isprambiente.gov.it/it/archivio/notizie-e-novita-normative
 /notizie-ispra/2018/12/conferenza-plastica-a-mare
END:VEVENT
BEGIN:VTIMEZONE
TZID:Europe/Berlin
X-LIC-LOCATION:Europe/Berlin
BEGIN:STANDARD
DTSTART;VALUE=DATE-TIME:20181028T020000
TZNAME:CET
TZOFFSETFROM:+0200
TZOFFSETTO:+0100
END:STANDARD
END:VTIMEZONE
END:VCALENDAR
