BEGIN:VCALENDAR
VERSION:2.0
PRODID:-//Plone.org//NONSGML plone.app.event//EN
X-WR-TIMEZONE:Europe/Berlin
BEGIN:VEVENT
SUMMARY:Premiazione dei vincitori del Bando della Regione Lazio “Progett
 i Gruppi di Ricerca”
DTSTART;TZID=Europe/Berlin;VALUE=DATE-TIME:20181214T110000
DTEND;TZID=Europe/Berlin;VALUE=DATE-TIME:20181214T110000
DTSTAMP;VALUE=DATE-TIME:20260423T051124Z
UID:a59d2517d1cf4d98a15ddb9218ac441e@www.isprambiente.gov.it
CREATED;VALUE=DATE-TIME:20181129T104109Z
LAST-MODIFIED;VALUE=DATE-TIME:20230120T133617Z
LOCATION:Roma\, ex Gil di Trastevere (via Ascianghi\, 5)
URL:https://www.isprambiente.gov.it/it/archivio/notizie-e-novita-normative
 /notizie-ispra/2018/12/premiazione-dei-vincitori-del-bando-della-regione-l
 azio-201cprogetti-gruppi-di-ricerca201d
END:VEVENT
BEGIN:VTIMEZONE
TZID:Europe/Berlin
X-LIC-LOCATION:Europe/Berlin
BEGIN:STANDARD
DTSTART;VALUE=DATE-TIME:20181028T020000
TZNAME:CET
TZOFFSETFROM:+0200
TZOFFSETTO:+0100
END:STANDARD
END:VTIMEZONE
END:VCALENDAR
