BEGIN:VCALENDAR
VERSION:2.0
PRODID:-//Plone.org//NONSGML plone.app.event//EN
X-WR-TIMEZONE:Europe/Berlin
BEGIN:VEVENT
SUMMARY:Metropoli agricole
DTSTART;TZID=Europe/Berlin;VALUE=DATE-TIME:20190222T090000
DTEND;TZID=Europe/Berlin;VALUE=DATE-TIME:20190222T173000
DTSTAMP;VALUE=DATE-TIME:20260423T013319Z
UID:29346a06dfb34254b9208f05d945bf3c@www.isprambiente.gov.it
CREATED;VALUE=DATE-TIME:20190219T134909Z
DESCRIPTION:#2030. Sistemi agroalimentari per la sostenibilità: un dialog
 o tra locale e globale
LAST-MODIFIED;VALUE=DATE-TIME:20230120T133545Z
LOCATION:Milano
URL:https://www.isprambiente.gov.it/it/archivio/notizie-e-novita-normative
 /notizie-ispra/2019/02/metropoli-agricole
END:VEVENT
BEGIN:VTIMEZONE
TZID:Europe/Berlin
X-LIC-LOCATION:Europe/Berlin
BEGIN:STANDARD
DTSTART;VALUE=DATE-TIME:20181028T020000
TZNAME:CET
TZOFFSETFROM:+0200
TZOFFSETTO:+0100
END:STANDARD
END:VTIMEZONE
END:VCALENDAR
